Name | Last modified | Size | Description | |
---|---|---|---|---|
Parent Directory | - | |||
checksrc-out.txt | 19-Apr-2024 00:32 | 6.4K | ||
buildbin-out.txt | 19-Apr-2024 00:32 | 1.8K | ||
install-out.txt | 19-Apr-2024 00:32 | 1.6K | ||
buildsrc-out.txt | 19-Apr-2024 00:32 | 871 | ||
buildbin-summary.dcf | 19-Apr-2024 00:32 | 518 | ||
checksrc-summary.dcf | 19-Apr-2024 00:32 | 442 | ||
buildsrc-summary.dcf | 19-Apr-2024 00:32 | 422 | ||
install-summary.dcf | 19-Apr-2024 00:32 | 265 | ||