Name | Last modified | Size | Description | |
---|---|---|---|---|
Parent Directory | - | |||
buildbin-out.txt | 19-Apr-2024 00:32 | 1.2K | ||
buildbin-summary.dcf | 19-Apr-2024 00:32 | 590 | ||
buildsrc-out.txt | 19-Apr-2024 00:32 | 856 | ||
buildsrc-summary.dcf | 19-Apr-2024 00:32 | 457 | ||
checksrc-out.txt | 19-Apr-2024 00:32 | 8.4K | ||
checksrc-summary.dcf | 19-Apr-2024 00:32 | 490 | ||
install-out.txt | 19-Apr-2024 00:32 | 1.0K | ||
install-summary.dcf | 19-Apr-2024 00:32 | 289 | ||