Name | Last modified | Size | Description | |
---|---|---|---|---|
Parent Directory | - | |||
buildbin-out.txt | 19-Apr-2024 00:32 | 9.4K | ||
buildbin-summary.dcf | 19-Apr-2024 00:32 | 528 | ||
buildsrc-out.txt | 19-Apr-2024 00:32 | 908 | ||
buildsrc-summary.dcf | 19-Apr-2024 00:32 | 426 | ||
checksrc-out.txt | 19-Apr-2024 00:32 | 4.3K | ||
checksrc-summary.dcf | 19-Apr-2024 00:32 | 442 | ||
install-out.txt | 19-Apr-2024 00:32 | 5.8K | ||
install-summary.dcf | 19-Apr-2024 00:32 | 268 | ||