Name | Last modified | Size | Description | |
---|---|---|---|---|
Parent Directory | - | |||
buildbin-out.txt | 19-Apr-2024 00:32 | 6.1K | ||
buildbin-summary.dcf | 19-Apr-2024 00:32 | 530 | ||
buildsrc-out.txt | 19-Apr-2024 00:32 | 938 | ||
buildsrc-summary.dcf | 19-Apr-2024 00:32 | 428 | ||
checksrc-out.txt | 19-Apr-2024 00:32 | 4.5K | ||
checksrc-summary.dcf | 19-Apr-2024 00:32 | 450 | ||
install-out.txt | 19-Apr-2024 00:32 | 2.6K | ||
install-summary.dcf | 19-Apr-2024 00:32 | 269 | ||