Name | Last modified | Size | Description | |
---|---|---|---|---|
Parent Directory | - | |||
buildsrc-out.txt | 18-Apr-2024 00:36 | 840 | ||
buildsrc-summary.dcf | 18-Apr-2024 00:36 | 419 | ||
checksrc-out.txt | 18-Apr-2024 00:36 | 4.2K | ||
checksrc-summary.dcf | 18-Apr-2024 00:36 | 417 | ||
install-out.txt | 18-Apr-2024 00:36 | 1.6K | ||
install-summary.dcf | 18-Apr-2024 00:36 | 261 | ||