Name | Last modified | Size | Description | |
---|---|---|---|---|
Parent Directory | - | |||
install-summary.dcf | 18-Apr-2024 00:38 | 271 | ||
buildsrc-summary.dcf | 18-Apr-2024 00:38 | 430 | ||
checksrc-summary.dcf | 18-Apr-2024 00:38 | 447 | ||
buildbin-summary.dcf | 18-Apr-2024 00:38 | 535 | ||
buildsrc-out.txt | 18-Apr-2024 00:38 | 850 | ||
install-out.txt | 18-Apr-2024 00:38 | 1.9K | ||
buildbin-out.txt | 18-Apr-2024 00:38 | 3.8K | ||
checksrc-out.txt | 18-Apr-2024 00:38 | 4.2K | ||