Name | Last modified | Size | Description | |
---|---|---|---|---|
Parent Directory | - | |||
checksrc-summary.dcf | 03-Nov-2023 00:41 | 426 | ||
checksrc-out.txt | 03-Nov-2023 00:41 | 4.0K | ||
buildsrc-summary.dcf | 03-Nov-2023 00:41 | 413 | ||
buildsrc-out.txt | 03-Nov-2023 00:41 | 747 | ||
install-summary.dcf | 03-Nov-2023 00:41 | 255 | ||
install-out.txt | 03-Nov-2023 00:41 | 1.5K | ||