Name | Last modified | Size | Description | |
---|---|---|---|---|
Parent Directory | - | |||
install-out.txt | 05-Mar-2024 01:38 | 1.0K | ||
install-summary.dcf | 05-Mar-2024 01:38 | 265 | ||
buildsrc-out.txt | 05-Mar-2024 01:38 | 848 | ||
buildsrc-summary.dcf | 05-Mar-2024 01:38 | 421 | ||
checksrc-out.txt | 05-Mar-2024 01:38 | 3.8K | ||
checksrc-summary.dcf | 05-Mar-2024 01:38 | 436 | ||
buildbin-out.txt | 05-Mar-2024 01:38 | 1.1K | ||
buildbin-summary.dcf | 05-Mar-2024 01:38 | 518 | ||