Name | Last modified | Size | Description | |
---|---|---|---|---|
Parent Directory | - | |||
buildsrc-out.txt | 18-Apr-2024 00:36 | 806 | ||
buildsrc-summary.dcf | 18-Apr-2024 00:36 | 415 | ||
checksrc-out.txt | 18-Apr-2024 00:36 | 3.7K | ||
checksrc-summary.dcf | 18-Apr-2024 00:36 | 413 | ||
install-out.txt | 18-Apr-2024 00:36 | 952 | ||
install-summary.dcf | 18-Apr-2024 00:36 | 259 | ||