Index of /checkResults/3.18/bioc-LATEST/velociraptor/raw-results/kunpeng2
Name
Last modified
Size
Description
Parent Directory
-
buildsrc-out.txt
03-Nov-2023 00:41
652
buildsrc-summary.dcf
03-Nov-2023 00:41
344
install-out.txt
03-Nov-2023 00:41
835
install-summary.dcf
03-Nov-2023 00:41
263