Name | Last modified | Size | Description | |
---|---|---|---|---|
Parent Directory | - | |||
checksrc-summary.dcf | 03-Nov-2023 00:41 | 421 | ||
checksrc-out.txt | 03-Nov-2023 00:41 | 3.8K | ||
buildsrc-summary.dcf | 03-Nov-2023 00:41 | 415 | ||
buildsrc-out.txt | 03-Nov-2023 00:41 | 804 | ||
install-out.txt | 03-Nov-2023 00:41 | 1.0K | ||
install-summary.dcf | 03-Nov-2023 00:41 | 255 | ||