Name | Last modified | Size | Description | |
---|---|---|---|---|
Parent Directory | - | |||
install-summary.dcf | 18-Apr-2024 00:36 | 262 | ||
buildsrc-summary.dcf | 18-Apr-2024 00:36 | 422 | ||
checksrc-summary.dcf | 18-Apr-2024 00:36 | 427 | ||
buildsrc-out.txt | 18-Apr-2024 00:36 | 854 | ||
install-out.txt | 18-Apr-2024 00:36 | 958 | ||
checksrc-out.txt | 18-Apr-2024 00:36 | 4.3K | ||