Name | Last modified | Size | Description | |
---|---|---|---|---|
Parent Directory | - | |||
buildbin-out.txt | 18-Apr-2024 00:38 | 1.2K | ||
buildbin-summary.dcf | 18-Apr-2024 00:38 | 541 | ||
buildsrc-out.txt | 18-Apr-2024 00:38 | 864 | ||
buildsrc-summary.dcf | 18-Apr-2024 00:38 | 432 | ||
checksrc-out.txt | 18-Apr-2024 00:38 | 4.2K | ||
checksrc-summary.dcf | 18-Apr-2024 00:38 | 457 | ||
install-out.txt | 18-Apr-2024 00:38 | 1.0K | ||
install-summary.dcf | 18-Apr-2024 00:38 | 272 | ||