Name | Last modified | Size | Description | |
---|---|---|---|---|
Parent Directory | - | |||
install-summary.dcf | 03-Nov-2023 00:41 | 256 | ||
install-out.txt | 03-Nov-2023 00:41 | 946 | ||
checksrc-summary.dcf | 03-Nov-2023 00:41 | 430 | ||
checksrc-out.txt | 03-Nov-2023 00:41 | 4.2K | ||
buildsrc-summary.dcf | 03-Nov-2023 00:41 | 416 | ||
buildsrc-out.txt | 03-Nov-2023 00:41 | 848 | ||