Name | Last modified | Size | Description | |
---|---|---|---|---|
Parent Directory | - | |||
checksrc-out.txt | 05-Mar-2024 01:37 | 4.1K | ||
buildbin-out.txt | 05-Mar-2024 01:37 | 1.4K | ||
install-out.txt | 05-Mar-2024 01:37 | 1.1K | ||
buildsrc-out.txt | 05-Mar-2024 01:37 | 921 | ||
buildbin-summary.dcf | 05-Mar-2024 01:37 | 632 | ||
checksrc-summary.dcf | 05-Mar-2024 01:37 | 512 | ||
buildsrc-summary.dcf | 05-Mar-2024 01:37 | 478 | ||
install-summary.dcf | 05-Mar-2024 01:37 | 303 | ||