Name | Last modified | Size | Description | |
---|---|---|---|---|
Parent Directory | - | |||
buildsrc-out.txt | 03-Nov-2023 00:41 | 871 | ||
buildsrc-summary.dcf | 03-Nov-2023 00:41 | 417 | ||
checksrc-out.txt | 03-Nov-2023 00:41 | 3.5K | ||
checksrc-summary.dcf | 03-Nov-2023 00:41 | 425 | ||
install-out.txt | 03-Nov-2023 00:41 | 954 | ||
install-summary.dcf | 03-Nov-2023 00:41 | 257 | ||