Name | Last modified | Size | Description | |
---|---|---|---|---|
Parent Directory | - | |||
buildbin-summary.dcf | 18-Apr-2024 00:38 | 553 | ||
buildbin-out.txt | 18-Apr-2024 00:38 | 1.4K | ||
checksrc-summary.dcf | 18-Apr-2024 00:38 | 460 | ||
checksrc-out.txt | 18-Apr-2024 00:38 | 4.1K | ||
buildsrc-summary.dcf | 18-Apr-2024 00:38 | 438 | ||
buildsrc-out.txt | 18-Apr-2024 00:38 | 895 | ||
install-summary.dcf | 18-Apr-2024 00:38 | 277 | ||
install-out.txt | 18-Apr-2024 00:38 | 1.2K | ||