Name | Last modified | Size | Description | |
---|---|---|---|---|
Parent Directory | - | |||
buildsrc-out.txt | 03-Nov-2023 00:41 | 879 | ||
buildsrc-summary.dcf | 03-Nov-2023 00:41 | 424 | ||
checksrc-out.txt | 03-Nov-2023 00:41 | 4.0K | ||
checksrc-summary.dcf | 03-Nov-2023 00:41 | 433 | ||
install-out.txt | 03-Nov-2023 00:41 | 1.1K | ||
install-summary.dcf | 03-Nov-2023 00:41 | 261 | ||