Name | Last modified | Size | Description | |
---|---|---|---|---|
Parent Directory | - | |||
install-out.txt | 18-Apr-2024 00:37 | 1.0K | ||
install-summary.dcf | 18-Apr-2024 00:37 | 282 | ||
buildsrc-out.txt | 18-Apr-2024 00:37 | 911 | ||
buildsrc-summary.dcf | 18-Apr-2024 00:37 | 481 | ||
checksrc-out.txt | 18-Apr-2024 00:37 | 3.2K | ||
checksrc-summary.dcf | 18-Apr-2024 00:37 | 475 | ||
buildbin-out.txt | 18-Apr-2024 00:37 | 1.1K | ||
buildbin-summary.dcf | 18-Apr-2024 00:37 | 557 | ||