Name | Last modified | Size | Description | |
---|---|---|---|---|
Parent Directory | - | |||
install-out.txt | 18-Apr-2024 00:36 | 968 | ||
install-summary.dcf | 18-Apr-2024 00:36 | 275 | ||
buildsrc-out.txt | 18-Apr-2024 00:36 | 878 | ||
buildsrc-summary.dcf | 18-Apr-2024 00:36 | 441 | ||
checksrc-out.txt | 18-Apr-2024 00:36 | 3.7K | ||
checksrc-summary.dcf | 18-Apr-2024 00:36 | 452 | ||