Name | Last modified | Size | Description | |
---|---|---|---|---|
Parent Directory | - | |||
buildsrc-out.txt | 18-Apr-2024 00:36 | 878 | ||
buildsrc-summary.dcf | 18-Apr-2024 00:36 | 441 | ||
checksrc-out.txt | 18-Apr-2024 00:36 | 10K | ||
checksrc-summary.dcf | 18-Apr-2024 00:36 | 450 | ||
install-out.txt | 18-Apr-2024 00:36 | 1.0K | ||
install-summary.dcf | 18-Apr-2024 00:36 | 275 | ||