Name | Last modified | Size | Description | |
---|---|---|---|---|
Parent Directory | - | |||
install-out.txt | 05-Mar-2024 01:37 | 1.0K | ||
install-summary.dcf | 05-Mar-2024 01:37 | 285 | ||
buildsrc-summary.dcf | 05-Mar-2024 01:37 | 451 | ||
buildsrc-out.txt | 05-Mar-2024 01:37 | 888 | ||
checksrc-out.txt | 05-Mar-2024 01:37 | 9.5K | ||
checksrc-summary.dcf | 05-Mar-2024 01:37 | 476 | ||
buildbin-out.txt | 05-Mar-2024 01:37 | 1.2K | ||
buildbin-summary.dcf | 05-Mar-2024 01:37 | 578 | ||