Name | Last modified | Size | Description | |
---|---|---|---|---|
Parent Directory | - | |||
checksrc-summary.dcf | 03-Nov-2023 00:41 | 449 | ||
checksrc-out.txt | 03-Nov-2023 00:41 | 9.5K | ||
buildsrc-summary.dcf | 03-Nov-2023 00:41 | 434 | ||
buildsrc-out.txt | 03-Nov-2023 00:41 | 872 | ||
install-summary.dcf | 03-Nov-2023 00:41 | 269 | ||
install-out.txt | 03-Nov-2023 00:41 | 964 | ||