Name | Last modified | Size | Description | |
---|---|---|---|---|
Parent Directory | - | |||
install-summary.dcf | 18-Apr-2024 00:38 | 270 | ||
install-out.txt | 18-Apr-2024 00:38 | 1.0K | ||
checksrc-summary.dcf | 18-Apr-2024 00:38 | 446 | ||
checksrc-out.txt | 18-Apr-2024 00:38 | 3.2K | ||
buildsrc-summary.dcf | 18-Apr-2024 00:38 | 428 | ||
buildsrc-out.txt | 18-Apr-2024 00:38 | 882 | ||
buildbin-summary.dcf | 18-Apr-2024 00:38 | 533 | ||
buildbin-out.txt | 18-Apr-2024 00:38 | 1.1K | ||