Name | Last modified | Size | Description | |
---|---|---|---|---|
Parent Directory | - | |||
checksrc-summary.dcf | 18-Apr-2024 00:36 | 412 | ||
checksrc-out.txt | 18-Apr-2024 00:36 | 3.9K | ||
buildsrc-summary.dcf | 18-Apr-2024 00:36 | 416 | ||
buildsrc-out.txt | 18-Apr-2024 00:36 | 845 | ||
install-summary.dcf | 18-Apr-2024 00:36 | 258 | ||
install-out.txt | 18-Apr-2024 00:36 | 972 | ||