Back to Multiple platform build/check report for BioC 3.18:   simplified   long
ABCDEFGHIJKLMNOPQR[S]TUVWXYZ

This page was generated on 2023-12-04 11:38:02 -0500 (Mon, 04 Dec 2023).

HostnameOSArch (*)R versionInstalled pkgs
nebbiolo2Linux (Ubuntu 22.04.2 LTS)x86_644.3.2 Patched (2023-11-13 r85521) -- "Eye Holes" 4686
palomino4Windows Server 2022 Datacenterx644.3.2 (2023-10-31 ucrt) -- "Eye Holes" 4421
lconwaymacOS 12.7.1 Montereyx86_644.3.2 Patched (2023-11-01 r85457) -- "Eye Holes" 4440
Click on any hostname to see more info about the system (e.g. compilers)      (*) as reported by 'uname -p', except on Windows and Mac OS X

Package 2001/2266HostnameOS / ArchINSTALLBUILDCHECKBUILD BIN
sparrow 1.8.0  (landing page)
Steve Lianoglou
Snapshot Date: 2023-12-03 14:05:05 -0500 (Sun, 03 Dec 2023)
git_url: https://git.bioconductor.org/packages/sparrow
git_branch: RELEASE_3_18
git_last_commit: 115a98f
git_last_commit_date: 2023-10-24 11:36:55 -0500 (Tue, 24 Oct 2023)
nebbiolo2Linux (Ubuntu 22.04.2 LTS) / x86_64  OK    OK    OK  UNNEEDED, same version is already published
palomino4Windows Server 2022 Datacenter / x64  OK    OK    OK    OK  UNNEEDED, same version is already published
lconwaymacOS 12.7.1 Monterey / x86_64  OK    OK    OK    OK  UNNEEDED, same version is already published
kjohnson1macOS 13.6.1 Ventura / arm64see weekly results here

CHECK results for sparrow on lconway


To the developers/maintainers of the sparrow package:
- Allow up to 24 hours (and sometimes 48 hours) for your latest push to git@git.bioconductor.org:packages/sparrow.git to reflect on this report. See Troubleshooting Build Report for more information.
- Use the following Renviron settings to reproduce errors and warnings.
- If 'R CMD check' started to fail recently on the Linux builder(s) over a missing dependency, add the missing dependency to 'Suggests:' in your DESCRIPTION file. See Renviron.bioc for more information.

raw results


Summary

Package: sparrow
Version: 1.8.0
Command: /Library/Frameworks/R.framework/Resources/bin/R CMD check --install=check:sparrow.install-out.txt --library=/Library/Frameworks/R.framework/Resources/library --no-vignettes --timings sparrow_1.8.0.tar.gz
StartedAt: 2023-12-03 23:00:23 -0500 (Sun, 03 Dec 2023)
EndedAt: 2023-12-03 23:10:47 -0500 (Sun, 03 Dec 2023)
EllapsedTime: 623.4 seconds
RetCode: 0
Status:   OK  
CheckDir: sparrow.Rcheck
Warnings: 0

Command output

##############################################################################
##############################################################################
###
### Running command:
###
###   /Library/Frameworks/R.framework/Resources/bin/R CMD check --install=check:sparrow.install-out.txt --library=/Library/Frameworks/R.framework/Resources/library --no-vignettes --timings sparrow_1.8.0.tar.gz
###
##############################################################################
##############################################################################


* using log directory ‘/Users/biocbuild/bbs-3.18-bioc/meat/sparrow.Rcheck’
* using R version 4.3.2 Patched (2023-11-01 r85457)
* using platform: x86_64-apple-darwin20 (64-bit)
* R was compiled by
    Apple clang version 14.0.3 (clang-1403.0.22.14.1)
    GNU Fortran (GCC) 12.2.0
* running under: macOS Monterey 12.7.1
* using session charset: UTF-8
* using option ‘--no-vignettes’
* checking for file ‘sparrow/DESCRIPTION’ ... OK
* checking extension type ... Package
* this is package ‘sparrow’ version ‘1.8.0’
* package encoding: UTF-8
* checking package namespace information ... OK
* checking package dependencies ... OK
* checking if this is a source package ... OK
* checking if there is a namespace ... OK
* checking for hidden files and directories ... OK
* checking for portable file names ... OK
* checking for sufficient/correct file permissions ... OK
* checking whether package ‘sparrow’ can be installed ... OK
* checking installed package size ... OK
* checking package directory ... OK
* checking ‘build’ directory ... OK
* checking DESCRIPTION meta-information ... OK
* checking top-level files ... OK
* checking for left-over files ... OK
* checking index information ... OK
* checking package subdirectories ... OK
* checking R files for non-ASCII characters ... OK
* checking R files for syntax errors ... OK
* checking whether the package can be loaded ... OK
* checking whether the package can be loaded with stated dependencies ... OK
* checking whether the package can be unloaded cleanly ... OK
* checking whether the namespace can be loaded with stated dependencies ... OK
* checking whether the namespace can be unloaded cleanly ... OK
* checking startup messages can be suppressed ... OK
* checking dependencies in R code ... OK
* checking S3 generic/method consistency ... OK
* checking replacement functions ... OK
* checking foreign function calls ... OK
* checking R code for possible problems ... NOTE
geneSetsStats: no visible binding for global variable ‘direction’
Undefined global functions or variables:
  direction
* checking Rd files ... OK
* checking Rd metadata ... OK
* checking Rd cross-references ... OK
* checking for missing documentation entries ... OK
* checking for code/documentation mismatches ... OK
* checking Rd \usage sections ... OK
* checking Rd contents ... OK
* checking for unstated dependencies in examples ... OK
* checking line endings in Makefiles ... OK
* checking for GNU extensions in Makefiles ... OK
* checking include directives in Makefiles ... OK
* checking files in ‘vignettes’ ... OK
* checking examples ... OK
Examples with CPU (user + system) or elapsed time > 5s
                    user system elapsed
goseq              8.285  0.424   8.752
scoreSingleSamples 4.953  0.336   5.316
seas               5.084  0.177   5.296
* checking for unstated dependencies in ‘tests’ ... OK
* checking tests ...
  Running ‘testthat.R’
 OK
* checking for unstated dependencies in vignettes ... OK
* checking package vignettes in ‘inst/doc’ ... OK
* checking running R code from vignettes ... SKIPPED
* checking re-building of vignette outputs ... SKIPPED
* checking PDF version of manual ... OK
* DONE

Status: 1 NOTE
See
  ‘/Users/biocbuild/bbs-3.18-bioc/meat/sparrow.Rcheck/00check.log’
for details.



Installation output

sparrow.Rcheck/00install.out

##############################################################################
##############################################################################
###
### Running command:
###
###   /Library/Frameworks/R.framework/Resources/bin/R CMD INSTALL sparrow
###
##############################################################################
##############################################################################


* installing to library ‘/Library/Frameworks/R.framework/Versions/4.3-x86_64/Resources/library’
* installing *source* package ‘sparrow’ ...
** using staged installation
** R
** inst
** byte-compile and prepare package for lazy loading
** help
*** installing help indices
*** copying figures
** building package indices
** installing vignettes
** testing if installed package can be loaded from temporary location
** testing if installed package can be loaded from final location
** testing if installed package keeps a record of temporary installation path
* DONE (sparrow)

Tests output

sparrow.Rcheck/tests/testthat.Rout


R version 4.3.2 Patched (2023-11-01 r85457) -- "Eye Holes"
Copyright (C) 2023 The R Foundation for Statistical Computing
Platform: x86_64-apple-darwin20 (64-bit)

R is free software and comes with ABSOLUTELY NO WARRANTY.
You are welcome to redistribute it under certain conditions.
Type 'license()' or 'licence()' for distribution details.

R is a collaborative project with many contributors.
Type 'contributors()' for more information and
'citation()' on how to cite R or R packages in publications.

Type 'demo()' for some demos, 'help()' for on-line help, or
'help.start()' for an HTML browser interface to help.
Type 'q()' to quit R.

> library("sparrow")
> library("testthat")
> library("data.table")
> library("dplyr")

Attaching package: 'dplyr'

The following objects are masked from 'package:data.table':

    between, first, last

The following object is masked from 'package:testthat':

    matches

The following object is masked from 'package:sparrow':

    combine

The following objects are masked from 'package:stats':

    filter, lag

The following objects are masked from 'package:base':

    intersect, setdiff, setequal, union

> 
> test_check("sparrow")

Attaching package: 'magrittr'

The following objects are masked from 'package:testthat':

    equals, is_less_than, not

[1] "Calculating ranks..."
[1] "Calculating absolute values from ranks..."
[1] "Normalizing..."
[1] "Calculating ranks..."
[1] "Calculating absolute values from ranks..."
[1] "Normalizing..."
[1] "Calculating ranks..."
[1] "Calculating absolute values from ranks..."
[1] "Normalizing..."
[1] "Calculating ranks..."
[1] "Calculating absolute values from ranks..."
[1] "Normalizing..."
[1] "Calculating ranks..."
[1] "Calculating absolute values from ranks..."
[1] "Normalizing..."
[1] "Calculating ranks..."
[1] "Calculating absolute values from ranks..."
[1] "Normalizing..."
[1] "Calculating ranks..."
[1] "Calculating absolute values from ranks..."
[1] "Normalizing..."
[ FAIL 0 | WARN 11 | SKIP 1 | PASS 1495 ]

══ Skipped tests (1) ═══════════════════════════════════════════════════════════
• empty test (1): 'test-MultiGSEAResult.R:3:1'

[ FAIL 0 | WARN 11 | SKIP 1 | PASS 1495 ]
> 
> ## Remove temporary files that were generated
> test.dir <- system.file('tests', package = "sparrow")
> pdfs <- dir(test.dir, "\\.pdf$", full.names=TRUE)
> if (length(pdfs)) {
+   unlink(pdfs)
+ }
> 
> 
> proc.time()
   user  system elapsed 
334.178  21.297 349.212 

Example timings

sparrow.Rcheck/sparrow-Ex.timings

nameusersystemelapsed
GeneSetDb-class0.0830.0050.089
SparrowResult-utilities4.6100.1354.777
addGeneSetMetadata0.0510.0020.053
annotateGeneSetMembership3.9100.1194.052
calculateIndividualLogFC2.0060.0952.116
collectionMetadata0.0730.0030.076
combine-GeneSetDb-GeneSetDb-method0.0840.0040.090
combine-SparrowResult-SparrowResult-method0.1350.0050.141
conform0.4480.0260.477
conversion0.5800.0350.618
convertIdentifiers0.1160.0050.122
corplot0.0850.0050.090
eigenWeightedMean3.1660.1183.292
examples0.3100.0560.368
failWith0.0010.0000.000
featureIdMap0.4050.0190.426
featureIds0.4740.0360.525
geneSet0.0730.0010.074
geneSetCollectionURLfunction0.0580.0020.061
geneSetSummaryByGenes4.0290.1124.164
geneSets0.0510.0010.053
geneSetsStats3.4860.1253.626
getKeggCollection000
getMSigCollection000
getPantherCollection0.0000.0000.001
getReactomeCollection000
goseq8.2850.4248.752
gsdScore0.9400.0460.994
gskey0.0020.0010.004
hasGeneSet0.0490.0020.051
hasGeneSetCollection0.0580.0030.060
incidenceMatrix1.0420.0571.103
iplot1.2380.1231.369
is.active0.3220.0390.364
logFC2.9290.1233.066
mgheatmap000
mgheatmap2000
msg0.0000.0000.001
ora0.2830.0210.308
p.matrix0.0750.0010.076
randomGeneSetDb0.0760.0080.086
renameCollections0.0570.0020.060
renameRows0.3400.0110.353
results0.1320.0070.139
scale_rows0.0040.0000.004
scoreSingleSamples4.9530.3365.316
seas5.0840.1775.296
sparrow_methods0.0020.0010.004
species_info0.0050.0020.007
subset.GeneSetDb0.0580.0010.059
subsetByFeatures0.1060.0060.112
validateInputs0.1400.0130.158
volcanoPlot3.0830.1623.307
volcanoStatsTable0.1310.0140.146
zScore0.6640.0300.695