Name | Last modified | Size | Description | |
---|---|---|---|---|
Parent Directory | - | |||
buildbin-summary.dcf | 18-Apr-2024 00:37 | 513 | ||
buildbin-out.txt | 18-Apr-2024 00:37 | 970 | ||
checksrc-summary.dcf | 18-Apr-2024 00:37 | 447 | ||
checksrc-out.txt | 18-Apr-2024 00:37 | 3.7K | ||
buildsrc-out.txt | 18-Apr-2024 00:37 | 966 | ||
buildsrc-summary.dcf | 18-Apr-2024 00:37 | 463 | ||
install-summary.dcf | 18-Apr-2024 00:37 | 268 | ||
install-out.txt | 18-Apr-2024 00:37 | 841 | ||