Name | Last modified | Size | Description | |
---|---|---|---|---|
Parent Directory | - | |||
buildbin-out.txt | 18-Apr-2024 00:38 | 1.0K | ||
buildbin-summary.dcf | 18-Apr-2024 00:38 | 530 | ||
buildsrc-out.txt | 18-Apr-2024 00:38 | 856 | ||
buildsrc-summary.dcf | 18-Apr-2024 00:38 | 428 | ||
checksrc-out.txt | 18-Apr-2024 00:38 | 3.8K | ||
checksrc-summary.dcf | 18-Apr-2024 00:38 | 444 | ||
install-out.txt | 18-Apr-2024 00:38 | 867 | ||
install-summary.dcf | 18-Apr-2024 00:38 | 269 | ||