Name | Last modified | Size | Description | |
---|---|---|---|---|
Parent Directory | - | |||
buildsrc-out.txt | 03-Nov-2023 00:41 | 840 | ||
buildsrc-summary.dcf | 03-Nov-2023 00:41 | 411 | ||
checksrc-out.txt | 03-Nov-2023 00:41 | 3.8K | ||
checksrc-summary.dcf | 03-Nov-2023 00:41 | 417 | ||
install-out.txt | 03-Nov-2023 00:41 | 820 | ||
install-summary.dcf | 03-Nov-2023 00:41 | 252 | ||