Name | Last modified | Size | Description | |
---|---|---|---|---|
Parent Directory | - | |||
buildbin-out.txt | 18-Apr-2024 00:37 | 2.3K | ||
buildbin-summary.dcf | 18-Apr-2024 00:37 | 539 | ||
buildsrc-out.txt | 18-Apr-2024 00:37 | 891 | ||
buildsrc-summary.dcf | 18-Apr-2024 00:37 | 469 | ||
checksrc-out.txt | 18-Apr-2024 00:37 | 4.0K | ||
checksrc-summary.dcf | 18-Apr-2024 00:37 | 463 | ||
install-out.txt | 18-Apr-2024 00:37 | 2.2K | ||
install-summary.dcf | 18-Apr-2024 00:37 | 276 | ||