Index of /checkResults/3.18/bioc-LATEST/segmenter/raw-results

[ICO]NameLast modifiedSizeDescription

[DIR]Parent Directory  -  
[   ]info.dcf06-Dec-2023 01:38 297  
[DIR]kunpeng2/03-Nov-2023 00:41 -  
[DIR]lconway/06-Dec-2023 01:38 -  
[DIR]nebbiolo2/06-Dec-2023 01:36 -  
[DIR]palomino4/06-Dec-2023 01:37 -