Name | Last modified | Size | Description | |
---|---|---|---|---|
Parent Directory | - | |||
install-summary.dcf | 18-Apr-2024 00:38 | 265 | ||
install-out.txt | 18-Apr-2024 00:38 | 1.0K | ||
checksrc-summary.dcf | 18-Apr-2024 00:38 | 436 | ||
checksrc-out.txt | 18-Apr-2024 00:38 | 3.7K | ||
buildsrc-summary.dcf | 18-Apr-2024 00:38 | 422 | ||
buildsrc-out.txt | 18-Apr-2024 00:38 | 871 | ||
buildbin-summary.dcf | 18-Apr-2024 00:38 | 518 | ||
buildbin-out.txt | 18-Apr-2024 00:38 | 1.1K | ||