Name | Last modified | Size | Description | |
---|---|---|---|---|
Parent Directory | - | |||
buildsrc-out.txt | 18-Apr-2024 00:36 | 817 | ||
buildsrc-summary.dcf | 18-Apr-2024 00:36 | 424 | ||
checksrc-out.txt | 18-Apr-2024 00:36 | 4.2K | ||
checksrc-summary.dcf | 18-Apr-2024 00:36 | 430 | ||
install-out.txt | 18-Apr-2024 00:36 | 961 | ||
install-summary.dcf | 18-Apr-2024 00:36 | 264 | ||