Index of /checkResults/3.18/bioc-LATEST/scTensor/raw-results/palomino4

[ICO]NameLast modifiedSizeDescription

[DIR]Parent Directory  -  
[TXT]buildbin-out.txt30-Mar-2024 00:37 1.1K 
[   ]buildbin-summary.dcf30-Mar-2024 00:37 521  
[TXT]buildsrc-out.txt30-Mar-2024 00:37 937  
[   ]buildsrc-summary.dcf30-Mar-2024 00:37 457  
[TXT]checksrc-out.txt30-Mar-2024 00:37 3.6K 
[   ]checksrc-summary.dcf30-Mar-2024 00:37 457  
[TXT]install-out.txt30-Mar-2024 00:37 1.0K 
[   ]install-summary.dcf30-Mar-2024 00:37 270