Name | Last modified | Size | Description | |
---|---|---|---|---|
Parent Directory | - | |||
checksrc-out.txt | 03-Nov-2023 00:41 | 3.7K | ||
install-out.txt | 03-Nov-2023 00:41 | 1.0K | ||
buildsrc-out.txt | 03-Nov-2023 00:41 | 899 | ||
checksrc-summary.dcf | 03-Nov-2023 00:41 | 427 | ||
buildsrc-summary.dcf | 03-Nov-2023 00:41 | 415 | ||
install-summary.dcf | 03-Nov-2023 00:41 | 256 | ||