Name | Last modified | Size | Description | |
---|---|---|---|---|
Parent Directory | - | |||
checksrc-out.txt | 18-Apr-2024 00:36 | 3.0K | ||
install-out.txt | 18-Apr-2024 00:36 | 1.3K | ||
buildsrc-out.txt | 18-Apr-2024 00:36 | 821 | ||
checksrc-summary.dcf | 18-Apr-2024 00:36 | 438 | ||
buildsrc-summary.dcf | 18-Apr-2024 00:36 | 427 | ||
install-summary.dcf | 18-Apr-2024 00:36 | 266 | ||