Index of /checkResults/3.18/bioc-LATEST/scGPS/raw-results
Name
Last modified
Size
Description
Parent Directory
-
info.dcf
30-Nov-2023 01:38
267
kunpeng2/
03-Nov-2023 00:41
-
lconway/
30-Nov-2023 01:38
-
nebbiolo2/
30-Nov-2023 01:36
-
palomino4/
30-Nov-2023 01:37
-