Index of /checkResults/3.18/bioc-LATEST/scAnnotatR/raw-results/palomino4

[ICO]NameLast modifiedSizeDescription

[DIR]Parent Directory  -  
[TXT]buildbin-out.txt30-Mar-2024 00:37 1.4K 
[   ]buildbin-summary.dcf30-Mar-2024 00:37 530  
[TXT]buildsrc-out.txt30-Mar-2024 00:37 853  
[   ]buildsrc-summary.dcf30-Mar-2024 00:37 463  
[TXT]checksrc-out.txt30-Mar-2024 00:37 3.7K 
[   ]checksrc-summary.dcf30-Mar-2024 00:37 463  
[TXT]install-out.txt30-Mar-2024 00:37 1.3K 
[   ]install-summary.dcf30-Mar-2024 00:37 273