Index of /checkResults/3.18/bioc-LATEST/scAnnotatR/raw-results/nebbiolo2

[ICO]NameLast modifiedSizeDescription

[DIR]Parent Directory  -  
[TXT]buildsrc-out.txt30-Mar-2024 00:36 817  
[   ]buildsrc-summary.dcf30-Mar-2024 00:36 425  
[TXT]checksrc-out.txt30-Mar-2024 00:36 4.0K 
[   ]checksrc-summary.dcf30-Mar-2024 00:36 431  
[TXT]install-out.txt30-Mar-2024 00:36 1.3K 
[   ]install-summary.dcf30-Mar-2024 00:36 264