Name | Last modified | Size | Description | |
---|---|---|---|---|
Parent Directory | - | |||
buildbin-summary.dcf | 18-Apr-2024 00:38 | 512 | ||
buildbin-out.txt | 18-Apr-2024 00:38 | 1.2K | ||
checksrc-summary.dcf | 18-Apr-2024 00:38 | 435 | ||
checksrc-out.txt | 18-Apr-2024 00:38 | 4.8K | ||
buildsrc-summary.dcf | 18-Apr-2024 00:38 | 418 | ||
buildsrc-out.txt | 18-Apr-2024 00:38 | 804 | ||
install-summary.dcf | 18-Apr-2024 00:38 | 263 | ||
install-out.txt | 18-Apr-2024 00:38 | 1.0K | ||