Name | Last modified | Size | Description | |
---|---|---|---|---|
Parent Directory | - | |||
checksrc-summary.dcf | 03-Nov-2023 00:41 | 406 | ||
checksrc-out.txt | 03-Nov-2023 00:41 | 3.5K | ||
buildsrc-summary.dcf | 03-Nov-2023 00:41 | 403 | ||
buildsrc-out.txt | 03-Nov-2023 00:41 | 788 | ||
install-summary.dcf | 03-Nov-2023 00:41 | 246 | ||
install-out.txt | 03-Nov-2023 00:41 | 1.0K | ||