Name | Last modified | Size | Description | |
---|---|---|---|---|
Parent Directory | - | |||
install-out.txt | 03-Nov-2023 00:41 | 934 | ||
install-summary.dcf | 03-Nov-2023 00:41 | 249 | ||
buildsrc-out.txt | 03-Nov-2023 00:41 | 832 | ||
buildsrc-summary.dcf | 03-Nov-2023 00:41 | 404 | ||
checksrc-out.txt | 03-Nov-2023 00:41 | 3.5K | ||
checksrc-summary.dcf | 03-Nov-2023 00:41 | 409 | ||