Index of /checkResults/3.18/bioc-LATEST/rfPred/raw-results/palomino4

[ICO]NameLast modifiedSizeDescription

[DIR]Parent Directory  -  
[TXT]buildbin-out.txt01-Mar-2024 01:37 1.6K 
[   ]buildbin-summary.dcf01-Mar-2024 01:37 509  
[TXT]buildsrc-out.txt01-Mar-2024 01:37 926  
[   ]buildsrc-summary.dcf01-Mar-2024 01:37 448  
[TXT]checksrc-out.txt01-Mar-2024 01:37 4.0K 
[   ]checksrc-summary.dcf01-Mar-2024 01:37 442  
[TXT]install-out.txt01-Mar-2024 01:37 1.5K 
[   ]install-summary.dcf01-Mar-2024 01:37 266