Index of /checkResults/3.18/bioc-LATEST/rfPred/raw-results/lconway

[ICO]NameLast modifiedSizeDescription

[DIR]Parent Directory  -  
[TXT]buildbin-out.txt23-Feb-2024 01:38 3.5K 
[   ]buildbin-summary.dcf23-Feb-2024 01:38 524  
[TXT]buildsrc-out.txt23-Feb-2024 01:38 905  
[   ]buildsrc-summary.dcf23-Feb-2024 01:38 424  
[TXT]checksrc-out.txt23-Feb-2024 01:38 3.6K 
[   ]checksrc-summary.dcf23-Feb-2024 01:38 440  
[TXT]install-out.txt23-Feb-2024 01:38 1.7K 
[   ]install-summary.dcf23-Feb-2024 01:38 267