Name | Last modified | Size | Description | |
---|---|---|---|---|
Parent Directory | - | |||
install-summary.dcf | 18-Apr-2024 00:37 | 278 | ||
install-out.txt | 18-Apr-2024 00:37 | 1.0K | ||
checksrc-summary.dcf | 18-Apr-2024 00:37 | 467 | ||
checksrc-out.txt | 18-Apr-2024 00:37 | 3.5K | ||
buildsrc-summary.dcf | 18-Apr-2024 00:37 | 472 | ||
buildsrc-out.txt | 18-Apr-2024 00:37 | 901 | ||
buildbin-summary.dcf | 18-Apr-2024 00:37 | 545 | ||
buildbin-out.txt | 18-Apr-2024 00:37 | 1.1K | ||