Name | Last modified | Size | Description | |
---|---|---|---|---|
Parent Directory | - | |||
install-summary.dcf | 18-Apr-2024 00:36 | 269 | ||
install-out.txt | 18-Apr-2024 00:36 | 967 | ||
checksrc-summary.dcf | 18-Apr-2024 00:36 | 434 | ||
checksrc-out.txt | 18-Apr-2024 00:36 | 3.7K | ||
buildsrc-summary.dcf | 18-Apr-2024 00:36 | 432 | ||
buildsrc-out.txt | 18-Apr-2024 00:36 | 866 | ||