Index of /checkResults/3.18/bioc-LATEST/regionReport/raw-results/nebbiolo2

[ICO]NameLast modifiedSizeDescription

[DIR]Parent Directory  -  
[TXT]buildsrc-out.txt30-Mar-2024 00:36 866  
[   ]buildsrc-summary.dcf30-Mar-2024 00:36 430  
[TXT]checksrc-out.txt30-Mar-2024 00:36 3.7K 
[   ]checksrc-summary.dcf30-Mar-2024 00:36 434  
[TXT]install-out.txt30-Mar-2024 00:36 967  
[   ]install-summary.dcf30-Mar-2024 00:36 269