Name | Last modified | Size | Description | |
---|---|---|---|---|
Parent Directory | - | |||
buildsrc-out.txt | 18-Apr-2024 00:36 | 806 | ||
buildsrc-summary.dcf | 18-Apr-2024 00:36 | 417 | ||
checksrc-out.txt | 18-Apr-2024 00:36 | 3.5K | ||
checksrc-summary.dcf | 18-Apr-2024 00:36 | 414 | ||
install-out.txt | 18-Apr-2024 00:36 | 1.0K | ||
install-summary.dcf | 18-Apr-2024 00:36 | 259 | ||