Name | Last modified | Size | Description | |
---|---|---|---|---|
Parent Directory | - | |||
install-summary.dcf | 18-Apr-2024 00:36 | 259 | ||
buildsrc-summary.dcf | 18-Apr-2024 00:36 | 416 | ||
checksrc-summary.dcf | 18-Apr-2024 00:36 | 420 | ||
buildsrc-out.txt | 18-Apr-2024 00:36 | 797 | ||
install-out.txt | 18-Apr-2024 00:36 | 936 | ||
checksrc-out.txt | 18-Apr-2024 00:36 | 4.0K | ||