Name | Last modified | Size | Description | |
---|---|---|---|---|
Parent Directory | - | |||
install-out.txt | 18-Apr-2024 00:38 | 971 | ||
install-summary.dcf | 18-Apr-2024 00:38 | 269 | ||
buildsrc-out.txt | 18-Apr-2024 00:38 | 807 | ||
buildsrc-summary.dcf | 18-Apr-2024 00:38 | 426 | ||
checksrc-out.txt | 18-Apr-2024 00:38 | 4.0K | ||
checksrc-summary.dcf | 18-Apr-2024 00:38 | 450 | ||
buildbin-out.txt | 18-Apr-2024 00:38 | 1.1K | ||
buildbin-summary.dcf | 18-Apr-2024 00:38 | 530 | ||